BEGIN:VCALENDAR
VERSION:2.0
PRODID:-//Evangelisches Beratungszentrum München - ECPv6.15.18//NONSGML v1.0//EN
CALSCALE:GREGORIAN
METHOD:PUBLISH
X-ORIGINAL-URL:https://www.ebz-muenchen.de
X-WR-CALDESC:Veranstaltungen für Evangelisches Beratungszentrum München
REFRESH-INTERVAL;VALUE=DURATION:PT1H
X-Robots-Tag:noindex
X-PUBLISHED-TTL:PT1H
BEGIN:VTIMEZONE
TZID:Europe/Berlin
BEGIN:DAYLIGHT
TZOFFSETFROM:+0100
TZOFFSETTO:+0200
TZNAME:CEST
DTSTART:20250330T010000
END:DAYLIGHT
BEGIN:STANDARD
TZOFFSETFROM:+0200
TZOFFSETTO:+0100
TZNAME:CET
DTSTART:20251026T010000
END:STANDARD
BEGIN:DAYLIGHT
TZOFFSETFROM:+0100
TZOFFSETTO:+0200
TZNAME:CEST
DTSTART:20260329T010000
END:DAYLIGHT
BEGIN:STANDARD
TZOFFSETFROM:+0200
TZOFFSETTO:+0100
TZNAME:CET
DTSTART:20261025T010000
END:STANDARD
BEGIN:DAYLIGHT
TZOFFSETFROM:+0100
TZOFFSETTO:+0200
TZNAME:CEST
DTSTART:20270328T010000
END:DAYLIGHT
BEGIN:STANDARD
TZOFFSETFROM:+0200
TZOFFSETTO:+0100
TZNAME:CET
DTSTART:20271031T010000
END:STANDARD
END:VTIMEZONE
BEGIN:VEVENT
DTSTART;TZID=Europe/Berlin:20260114T180000
DTEND;TZID=Europe/Berlin:20260114T200000
DTSTAMP:20260420T110141
CREATED:20250701T102018Z
LAST-MODIFIED:20250818T080431Z
UID:10000035-1768413600-1768420800@www.ebz-muenchen.de
SUMMARY:Trennung und Scheidung
DESCRIPTION:Trennung und Scheidung\nInfoabend –  Rechtliche und praktische Hinweise zu Folgen von Trennung und Scheidung wie:\n\nDas rechtliche Verfahren bei Trennung / Scheidung\nSorgerecht und Umgangsregelungen für minderjährige Kinder und Jugendliche\nKindes- und Ehegattenunterhalt\nVermögensauseinandersetzung\nDie Möglichkeiten fachlicher Beratung: Ambivalenzberatung und Trennungs-/Scheidungsberatung\nVorstellung des Mediationsverfahrens\n\nReferentin\nJuristin Sandra Kuhlmann \nKostenbeitrag\n20 Euro Barzahlung beim Infoabend oder\nÜberweisung an Evangelische Bank eG\, IBAN: DE84 5206 0410 0003 4020 29.\nFür Jugendliche ist die Teilnahme kostenfrei. \nWir freuen uns zusätzlich auch über Spenden. \nAnmeldung\nBitte melden Sie sich über den roten Anmeldebutton an. \nAngebote anderer Beratungsstellen\nDie Abende finden im Wechsel mit jenen des Familien-Notrufs München statt: 17.00 bis 19.00 Uhr.
URL:https://www.ebz-muenchen.de/veranstaltung/trennung-und-scheidung-4/
LOCATION:ebz München Landwehrstr.\, Landwehrstr. 15/Rgb.\, München\, Bayern\, 80336\, Deutschland
CATEGORIES:Partnerschaft und Familie,Service
ATTACH;FMTTYPE=image/jpeg:https://www.ebz-muenchen.de/wp-content/uploads/2020/08/ebz-familie-trennung-e1660811142345.jpg
ORGANIZER;CN="Ehe-%2C Partnerschafts-%2C Familien-%2C Lebensberatung":MAILTO:epfl@ebz-muenchen.de
END:VEVENT
END:VCALENDAR