BEGIN:VCALENDAR
VERSION:2.0
PRODID:-//Evangelisches Beratungszentrum München - ECPv6.15.18//NONSGML v1.0//EN
CALSCALE:GREGORIAN
METHOD:PUBLISH
X-ORIGINAL-URL:https://www.ebz-muenchen.de
X-WR-CALDESC:Veranstaltungen für Evangelisches Beratungszentrum München
REFRESH-INTERVAL;VALUE=DURATION:PT1H
X-Robots-Tag:noindex
X-PUBLISHED-TTL:PT1H
BEGIN:VTIMEZONE
TZID:Europe/Berlin
BEGIN:DAYLIGHT
TZOFFSETFROM:+0100
TZOFFSETTO:+0200
TZNAME:CEST
DTSTART:20250330T010000
END:DAYLIGHT
BEGIN:STANDARD
TZOFFSETFROM:+0200
TZOFFSETTO:+0100
TZNAME:CET
DTSTART:20251026T010000
END:STANDARD
BEGIN:DAYLIGHT
TZOFFSETFROM:+0100
TZOFFSETTO:+0200
TZNAME:CEST
DTSTART:20260329T010000
END:DAYLIGHT
BEGIN:STANDARD
TZOFFSETFROM:+0200
TZOFFSETTO:+0100
TZNAME:CET
DTSTART:20261025T010000
END:STANDARD
BEGIN:DAYLIGHT
TZOFFSETFROM:+0100
TZOFFSETTO:+0200
TZNAME:CEST
DTSTART:20270328T010000
END:DAYLIGHT
BEGIN:STANDARD
TZOFFSETFROM:+0200
TZOFFSETTO:+0100
TZNAME:CET
DTSTART:20271031T010000
END:STANDARD
END:VTIMEZONE
BEGIN:VEVENT
DTSTART;TZID=Europe/Berlin:20260325T180000
DTEND;TZID=Europe/Berlin:20260325T200000
DTSTAMP:20260420T145825
CREATED:20250731T093005Z
LAST-MODIFIED:20260323T074256Z
UID:10000017-1774461600-1774468800@www.ebz-muenchen.de
SUMMARY:Pubertät - plötzlich ist alles anders?!
DESCRIPTION:Pubertät – plötzlich ist alles anders?!\nKennen Sie das?\n\nIhr Kind kommt nicht mehr aus seinem Zimmer?\nSpricht nicht mehr mit Ihnen?\nUnd im nächsten Moment weint es\, umarmt Sie und braucht unbedingt Zeit mit Ihnen?\n\nMit anderen Worten: Pubertät!\nIn dieser Phase verändert sich nicht nur der Körper der Kinder\, sondern auch das Gehirn wird „neu gestartet“! \n\nWas passiert da eigentlich?\nWo können wir als Eltern dabei unterstützen?\nWo müssen wir dennoch Grenzen setzen?\nWas ist wichtig für unsere Kinder in dieser anstrengenden aber auch spannenden Zeit?\n\nZu diesen und weiteren Fragen wollen wir informieren und uns mit Ihnen austauschen. Gerne beantworten wir Ihre Fragen. \nOrt: \nEvangelisches Beratungszentrum München\, Landwehrstr. 15 / Rgb. \nReferentinnen: \nAnna Stangl und Sofia Wegner\, Psychologinnen der HuG \nAnmeldung:\nBitte melden Sie sich über den roten Button an! \nKostenbeitrag:\nDer Infoabend ist aufgrund öffentlicher Förderung kostenfrei.  Über eine Spende freuen wir uns. \nBarrierefreiheit:\nEs handelt sich um eine inklusive Veranstaltung in deutscher Gebärdensprache. Dolmetscher*innen übersetzen in Lautsprache und umgekehrt.\nSchriftdolmetscher*innen stehen zur Verfügung\, wenn der Bedarf bis 03.03.2025 per E-Mail an hug@ebz-muenchen.de gemeldet wird. \nHaben Sie Fragen?\nhug@ebz-muenchen.de\, Telefon: 089-59048 180
URL:https://www.ebz-muenchen.de/veranstaltung/pubertaet-ploetzlich-ist-alles-anders/
LOCATION:ebz München Landwehrstr.\, Landwehrstr. 15/Rgb.\, München\, Bayern\, 80336\, Deutschland
CATEGORIES:Erziehungsberatung,Hörbehinderung,Partnerschaft und Familie,Schule
ATTACH;FMTTYPE=image/jpeg:https://www.ebz-muenchen.de/wp-content/uploads/2020/07/ebz-familie-pubertaet-e1660810332491.jpg
END:VEVENT
BEGIN:VEVENT
DTSTART;TZID=Europe/Berlin:20260326T180000
DTEND;TZID=Europe/Berlin:20260326T190000
DTSTAMP:20260420T145825
CREATED:20251209T133306Z
LAST-MODIFIED:20251209T143927Z
UID:10000266-1774548000-1774551600@www.ebz-muenchen.de
SUMMARY:Elterntreff
DESCRIPTION:Der Elterntreff im ebz\noffener Treff –  thematische Inputs – eigene Erfahrungen – Austausch – neue Ideen für den Alltag\nTermine 2026\n29.01.\, 26.02.\, 26.03.\, 30.04.\, 21.05.\, 25.06.\, 23.07.\, 29.10.\, 26.11. \nOrt\nebz in Ramersdorf\, Echardinger Str. 63\, 81671 München \nVeranstalter\nBeratung für Eltern\, Kinder\, Jugendliche und Familien (Erziehungsberatung) \nAnmeldung\nBitte unter eb.ramersdorf(ad)ebz-muenchen.de oder 089-59048 230 (Sekretariat/AB) \nInhalt\nDie offene Gruppe richtet sich an Mütter und Väter von 10- bis 18-Jährigen\, die sich mit anderen Eltern zu Erziehungsthemen in der Pubertät austauschen möchten.\nAustausch hilft\, wenn Türen knallen!\nWas kann ich Neues ausprobieren?\nIst das denn normal? Wie kann es weiter gehen? \nModeration\nKarolin Balbach und Franziska Thiel\, Beraterinnen der Erziehungsberatung \nKosten\nDie Treffs sind kostenfrei. Wir freuen uns aber über Spenden \nBarrierefreiheit\nEin Gebärdensprachendolmetscherdienst kann organisiert werden. Bitte spätestens drei Wochen vorher anmelden. \nWeitere Fragen?\nBitte melden Sie sich per Mail an eb.ramersdorf(ad)ebz-muenchen.de oder telefonisch an 089-59048 230
URL:https://www.ebz-muenchen.de/veranstaltung/elterntreff/2026-03-26/
LOCATION:EBZ in Ramersdorf\, Echardinger Str. 63\, München\, 81671\, Deutschland
CATEGORIES:Erziehungsberatung,Hörbehinderung,Partnerschaft und Familie,Schule
ATTACH;FMTTYPE=image/jpeg:https://www.ebz-muenchen.de/wp-content/uploads/2025/12/Freepik_gruppe-kinder_1200_2-scaled.jpg
ORGANIZER;CN="Erziehungsberatung":MAILTO:eb@ebz-muenchen.de
END:VEVENT
END:VCALENDAR