BEGIN:VCALENDAR
VERSION:2.0
PRODID:-//Evangelisches Beratungszentrum München - ECPv6.15.18//NONSGML v1.0//EN
CALSCALE:GREGORIAN
METHOD:PUBLISH
X-ORIGINAL-URL:https://www.ebz-muenchen.de
X-WR-CALDESC:Veranstaltungen für Evangelisches Beratungszentrum München
REFRESH-INTERVAL;VALUE=DURATION:PT1H
X-Robots-Tag:noindex
X-PUBLISHED-TTL:PT1H
BEGIN:VTIMEZONE
TZID:Europe/Berlin
BEGIN:DAYLIGHT
TZOFFSETFROM:+0100
TZOFFSETTO:+0200
TZNAME:CEST
DTSTART:20250330T010000
END:DAYLIGHT
BEGIN:STANDARD
TZOFFSETFROM:+0200
TZOFFSETTO:+0100
TZNAME:CET
DTSTART:20251026T010000
END:STANDARD
BEGIN:DAYLIGHT
TZOFFSETFROM:+0100
TZOFFSETTO:+0200
TZNAME:CEST
DTSTART:20260329T010000
END:DAYLIGHT
BEGIN:STANDARD
TZOFFSETFROM:+0200
TZOFFSETTO:+0100
TZNAME:CET
DTSTART:20261025T010000
END:STANDARD
BEGIN:DAYLIGHT
TZOFFSETFROM:+0100
TZOFFSETTO:+0200
TZNAME:CEST
DTSTART:20270328T010000
END:DAYLIGHT
BEGIN:STANDARD
TZOFFSETFROM:+0200
TZOFFSETTO:+0100
TZNAME:CET
DTSTART:20271031T010000
END:STANDARD
END:VTIMEZONE
BEGIN:VEVENT
DTSTART;TZID=Europe/Berlin:20260311T190000
DTEND;TZID=Europe/Berlin:20260311T210000
DTSTAMP:20260421T154915
CREATED:20250730T090040Z
LAST-MODIFIED:20250818T093347Z
UID:10000112-1773255600-1773262800@www.ebz-muenchen.de
SUMMARY:KSPG - Systemische Seelsorge
DESCRIPTION:Informationsabend für die KSPG Weiterbildung \nSystemische Methoden haben in vielen Zusammenhängen Eingang gefunden. So auch in der Seelsorge. \nInfoabend\nDer Infoabend möchte folgende Fragen klären: \nWas genau ist systemische Seelsorge? \nWas machen Seelsorger*innen\, wenn sie systemisch arbeiten? \nSie erhalten Einblick in die systemisch orientierte Seelsorgepraxis und die Vielfalt ihrer Möglichkeiten. \nReferent:\nAndreas Herrmann\, Pastoralpsychologie \nKostenbeitrag:\n10\,- Euro\, Barzahlung beim Infoabend oder Überweisung an Evangelische Bank eG\, IBAN: DE84 5206 0410 0003 4020 29.\nWir freuen uns zusätzlich auch über Spenden. \nAnmeldung:\nBitte melden Sie sich über den roten Button an.
URL:https://www.ebz-muenchen.de/veranstaltung/kspg-systemische-seelsorge/
LOCATION:ebz München Landwehrstr.\, Landwehrstr. 15/Rgb.\, München\, Bayern\, 80336\, Deutschland
CATEGORIES:Pastoralpsychologie,Service
ATTACH;FMTTYPE=image/jpeg:https://www.ebz-muenchen.de/wp-content/uploads/2020/07/Team-sitzt-im-Stuhlkreis--scaled-e1661160021244.jpg
ORGANIZER;CN="Pastoralpsychologie":MAILTO:ppa@ebz-muenchen.de
END:VEVENT
END:VCALENDAR