BEGIN:VCALENDAR
VERSION:2.0
PRODID:-//Evangelisches Beratungszentrum München - ECPv6.15.18//NONSGML v1.0//EN
CALSCALE:GREGORIAN
METHOD:PUBLISH
X-ORIGINAL-URL:https://www.ebz-muenchen.de
X-WR-CALDESC:Veranstaltungen für Evangelisches Beratungszentrum München
REFRESH-INTERVAL;VALUE=DURATION:PT1H
X-Robots-Tag:noindex
X-PUBLISHED-TTL:PT1H
BEGIN:VTIMEZONE
TZID:Europe/Berlin
BEGIN:DAYLIGHT
TZOFFSETFROM:+0100
TZOFFSETTO:+0200
TZNAME:CEST
DTSTART:20230326T010000
END:DAYLIGHT
BEGIN:STANDARD
TZOFFSETFROM:+0200
TZOFFSETTO:+0100
TZNAME:CET
DTSTART:20231029T010000
END:STANDARD
BEGIN:DAYLIGHT
TZOFFSETFROM:+0100
TZOFFSETTO:+0200
TZNAME:CEST
DTSTART:20240331T010000
END:DAYLIGHT
BEGIN:STANDARD
TZOFFSETFROM:+0200
TZOFFSETTO:+0100
TZNAME:CET
DTSTART:20241027T010000
END:STANDARD
BEGIN:DAYLIGHT
TZOFFSETFROM:+0100
TZOFFSETTO:+0200
TZNAME:CEST
DTSTART:20250330T010000
END:DAYLIGHT
BEGIN:STANDARD
TZOFFSETFROM:+0200
TZOFFSETTO:+0100
TZNAME:CET
DTSTART:20251026T010000
END:STANDARD
END:VTIMEZONE
BEGIN:VEVENT
DTSTART;TZID=Europe/Berlin:20240614T150000
DTEND;TZID=Europe/Berlin:20240614T183000
DTSTAMP:20260425T124048
CREATED:20230808T142302Z
LAST-MODIFIED:20230921T065532Z
UID:10000048-1718377200-1718389800@www.ebz-muenchen.de
SUMMARY:Systemische Tools zum Ausprobieren
DESCRIPTION:Systemische Tools zum Ausprobieren –\nPastoralpsychologische Fortbildung\nZielgruppe\nDie Fortbildung gibt Impulse zur Systemischen Seelsorge und stellt eine methodische Vertiefung zur Systemischen Seelsorge dar.\nFür Teilnehmende mit seelsorglichen und systemischen Vorkenntnissen. \nInhalt\nAusprobieren und üben – das steht im Vordergrund dieses Nachmittags. Denn erst im Ausprobieren machen wir uns Handwerkszeug auch zu eigen. Im Fokus stehen dabei drei\nPraktiken: Externalisieren – Die Wunderfrage – Drastifizieren. \nTermin\nFreitag\, 14.06.2024\, 15.00-18.30 Uhr \nOrt\nEvangelisches Beratungszentrum\, Landwehstr. 15/Rgb. \nReferenten\nAndreas Herrmann\, Dr. Bernhard Barnikol-Oettler \nKostenbeitrag\n40\,- Euro. Wir freuen uns über zusätzliche Spenden \nAnmeldung:\nBitte melden Sie sich mit dem roten Button an\, oder per Mail an ppa@ebz-muenchen.de. \n 
URL:https://www.ebz-muenchen.de/veranstaltung/systemische-tools-zum-ausprobieren/
LOCATION:ebz München Landwehrstr.\, Landwehrstr. 15/Rgb.\, München\, Bayern\, 80336\, Deutschland
CATEGORIES:Pastoralpsychologie,Telefonseelsorge
ATTACH;FMTTYPE=image/jpeg:https://www.ebz-muenchen.de/wp-content/uploads/2023/08/Familienbrett.jpg
ORGANIZER;CN="Pastoralpsychologie":MAILTO:ppa@ebz-muenchen.de
END:VEVENT
BEGIN:VEVENT
DTSTART;TZID=Europe/Berlin:20240413T090000
DTEND;TZID=Europe/Berlin:20240413T170000
DTSTAMP:20260425T124048
CREATED:20230808T135709Z
LAST-MODIFIED:20240326T111111Z
UID:10000047-1712998800-1713027600@www.ebz-muenchen.de
SUMMARY:Der kranke Mensch in der Seelsorge
DESCRIPTION:Der kranke Mensch in der Seelsorge –\nPastoralpsychologische Fortbildung\nZielgruppe\nMachen Sie sich fit für die Arbeit in Gemeinde\, Schule\, Klinik und anderen Arbeitsfeldern. \nInhalt\nDie Vulnerabilität von uns Menschen ist ein zentrales Thema in der Seelsorge. Was könnte in diesem Zusammenhang Gesundheit als „Kraft zum Menschsein“ (Karl Barth) für die seelsorgliche Begleitung bedeuten? \nTermin\nSamstag\, 13.04.2024\, 09.00-17.00 Uhr \nOrt\nEvangelisches Beratungszentrum\, Landwehstr. 15/Rgb. \nReferenten\nAndreas Herrmann\, Dr. Bernhard Barnikol-Oettler \nKostenbeitrag\n80\,- Euro. Wir freuen uns über zusätzliche Spenden \nAnmeldung:\nBitte melden Sie sich mit dem roten Button an\, oder per Mail an ppa@ebz-muenchen.de. \n 
URL:https://www.ebz-muenchen.de/veranstaltung/der-kranke-mensch-in-der-seelsorge/
LOCATION:ebz München Landwehrstr.\, Landwehrstr. 15/Rgb.\, München\, Bayern\, 80336\, Deutschland
CATEGORIES:Pastoralpsychologie,Telefonseelsorge
ATTACH;FMTTYPE=image/jpeg:https://www.ebz-muenchen.de/wp-content/uploads/2023/08/styf22-ThinkstockPhotos-514657035-scaled-e1718626302597.jpg
ORGANIZER;CN="Pastoralpsychologie":MAILTO:ppa@ebz-muenchen.de
END:VEVENT
BEGIN:VEVENT
DTSTART;TZID=Europe/Berlin:20240302T090000
DTEND;TZID=Europe/Berlin:20240302T170000
DTSTAMP:20260425T124048
CREATED:20230808T133805Z
LAST-MODIFIED:20230824T092722Z
UID:10000046-1709370000-1709398800@www.ebz-muenchen.de
SUMMARY:Systemische Zugänge zum Thema Angst
DESCRIPTION:Systemische Zugänge zum Thema Angst –\nPastoralpsychologische Fortbildung\nZielgruppe\nDie Fortbildung gibt Impulse zur Systemischen Seelsorge und stellt eine methodische Vertiefung zur Systemischen Seelsorge dar.\nFür Teilnehmende mit seelsorglichen und systemischen Vorkenntnissen. \nInhalt\nAuch in kirchlichen Arbeitsfeldern begegnen uns Menschen\, die von vielfältigen Ängsten geplagt sind. Angst stört und verstört. Gleichzeitig ist Angst ein lebensnotwendiges und hilfreiches Signal. Die Fortbildung lädt ein\, dieses zentrale menschliche Gefühl systemisch zu verstehen und in seelsorglichen Begegnungen zu nutzen. \nTermin\nSamstag\, 02.03.24\, 09.00-17.00 Uhr \nOrt\nEvangelisches Beratungszentrum\, Landwehstr. 15/Rgb. \nReferenten\nAndreas Herrmann\, Dr. Bernhard Barnikol-Oettler \nKostenbeitrag\n80\,- Euro. Wir freuen uns über zusätzliche Spenden \nAnmeldung:\nBitte melden Sie sich mit dem roten Button an\, oder per Mail an ppa@ebz-muenchen.de. \n 
URL:https://www.ebz-muenchen.de/veranstaltung/systemische-zugaenge-zum-thema-angst/
LOCATION:ebz München Landwehrstr.\, Landwehrstr. 15/Rgb.\, München\, Bayern\, 80336\, Deutschland
CATEGORIES:Pastoralpsychologie,Telefonseelsorge
ATTACH;FMTTYPE=image/jpeg:https://www.ebz-muenchen.de/wp-content/uploads/2023/08/cR_K_B_by_schemmi_pixelio.de_.jpg
ORGANIZER;CN="Pastoralpsychologie":MAILTO:ppa@ebz-muenchen.de
END:VEVENT
END:VCALENDAR