BEGIN:VCALENDAR
VERSION:2.0
PRODID:-//Evangelisches Beratungszentrum München - ECPv6.15.18//NONSGML v1.0//EN
CALSCALE:GREGORIAN
METHOD:PUBLISH
X-ORIGINAL-URL:https://www.ebz-muenchen.de
X-WR-CALDESC:Veranstaltungen für Evangelisches Beratungszentrum München
REFRESH-INTERVAL;VALUE=DURATION:PT1H
X-Robots-Tag:noindex
X-PUBLISHED-TTL:PT1H
BEGIN:VTIMEZONE
TZID:Europe/Berlin
BEGIN:DAYLIGHT
TZOFFSETFROM:+0100
TZOFFSETTO:+0200
TZNAME:CEST
DTSTART:20250330T010000
END:DAYLIGHT
BEGIN:STANDARD
TZOFFSETFROM:+0200
TZOFFSETTO:+0100
TZNAME:CET
DTSTART:20251026T010000
END:STANDARD
BEGIN:DAYLIGHT
TZOFFSETFROM:+0100
TZOFFSETTO:+0200
TZNAME:CEST
DTSTART:20260329T010000
END:DAYLIGHT
BEGIN:STANDARD
TZOFFSETFROM:+0200
TZOFFSETTO:+0100
TZNAME:CET
DTSTART:20261025T010000
END:STANDARD
BEGIN:DAYLIGHT
TZOFFSETFROM:+0100
TZOFFSETTO:+0200
TZNAME:CEST
DTSTART:20270328T010000
END:DAYLIGHT
BEGIN:STANDARD
TZOFFSETFROM:+0200
TZOFFSETTO:+0100
TZNAME:CET
DTSTART:20271031T010000
END:STANDARD
END:VTIMEZONE
BEGIN:VEVENT
DTSTART;TZID=Europe/Berlin:20260424T140000
DTEND;TZID=Europe/Berlin:20260424T170000
DTSTAMP:20260423T132023
CREATED:20251103T140054Z
LAST-MODIFIED:20251103T150056Z
UID:10000216-1777039200-1777050000@www.ebz-muenchen.de
SUMMARY:Ausbildungskurs Ehrenamt TelefonSeelsorge
DESCRIPTION:Haben Sie Zeit zum Zuhören?\n \n„TelefonSeelsorger*in zu sein ist ein besonderes Ehrenamt!“\nWenn Sie mit einem Ehrenamt in der Telefon-\, Chat- oder in der Mailseelsorge liebäugeln\, bewerben Sie sich\nbis 31.01.26 für den Ausbildungskurs!  \nWas macht die TelefonSeelsorge?\nDie TelefonSeelsorge lebt vom Engagement ehrenamtlich Mitarbeitender. Sie hören zu und nehmen sich der Not anderer Menschen an. Sie versetzen sich in die Situation fremder Menschen. Sie sind authentisch und reflektiert. Die Mitarbeitenden der TelefonSeelsorge gehen mit unterschiedlichen Anrufenden flexibel um und nehmen sie in ihren religiösen und weltanschaulichen Fragen an. \nAusbildung zur ehrenamtlichen Mitarbeit\nWährend einer neunmonatigen Ausbildung erweitern und verfeinern Sie ihre Fähigkeiten\, Kenntnisse und persönlichen Stärken\, um Begleitung am Telefon und evtl. per Mail oder Chat anbieten zu können. Sie lassen sich korrigieren und unterstützen sich gegenseitig.\nDie Ehrenamtlichen der TelefonSeelsorge lernen Kommunikation und Gesprächsführung in Theorie und Praxis und Basiswissen zu typischen Themen der TelefonSeelsorge. Sie arbeiten an der eigenen Person und in der Gruppe.\nSie werden durch professionelle Mitarbeitende ausgebildet\, begleitet und erhalten Supervision. \nAusbildungskurs\nEin neuer Ausbildungskurs beginnt im April 2026 und dauert bis Ende November 2026. \nAusbildungswochenenden\n\nAnfangswochenende in München 24.04.2026 – 26.04.2026\nZweites Wochenende in München 19.06.2026 – 21.06.2026\nDrittes Wochenende in München 25.09.2026 – 27.09.2026\n(jeweils Freitagnachmittag bis Sonntagnachmittag)\nDie Teilnahme an den 3 Wochenenden ist Voraussetzung für die Ausbildung.\n\nAusbildungsabende\nAußerdem findet wöchentlich dienstags jeweils von 18:00 bis 20:30 Uhr ein Ausbildungsabend statt (Ausnahme: Schulferien). \nSchwerpunkttage\nZudem wird es zwei Samstage mit Schwerpunktthemen geben (Termin wird noch festgelegt).  \nHospitationen\nParallel zur theoretischen Ausbildung werden Sie ab Juli 2026 zwei Mal im Monat bei einem/einer erfahrenen Ehrenamtlichen hospitieren (jeweils 5 Stunden).\n \nTelefondienst\nNach Abschluss der Hospitationen beginnen die Teilnehmer*innen bereits mit dem Telefondienst. Die hierbei gemachten Erfahrungen werden in der Ausbildungsgruppe besprochen und bearbeitet (Supervision). \nOrt\nDie Ausbildung erfolgt im ebz in der Landwerhstr.15/Rgb.\, in einer Gruppe von voraussichtlich 12 Teilnehmenden und endet im November 2026. \nAusbildungsteam\nDas Ausbildungsteam besteht aus hauptamtlichen Fachkräften der TelefonSeelsorge. Für einige Fachthemen stehen Referent*innen zur Verfügung. \nBewerbung\nBitte bewerben Sie sich bis 31.01.2026 per E-Mail. Die Auswahlgespräche finden im Februar und März 2026 statt. \nKosten\nDie Ausbildung ist kostenfrei.
URL:https://www.ebz-muenchen.de/veranstaltung/ausbildungskurs-ehrenamt-telefonseelsorge/
LOCATION:ebz München Landwehrstr.\, Landwehrstr. 15/Rgb.\, München\, Bayern\, 80336\, Deutschland
CATEGORIES:Telefonseelsorge
ATTACH;FMTTYPE=image/png:https://www.ebz-muenchen.de/wp-content/uploads/2025/11/Zeit-spenden_TS.png
ORGANIZER;CN="Evangelische TelefonSeelsorge M%C3%BCnchen":MAILTO:ts@ebz-muenchen.de
END:VEVENT
BEGIN:VEVENT
DTSTART;TZID=Europe/Berlin:20260430T180000
DTEND;TZID=Europe/Berlin:20260430T190000
DTSTAMP:20260423T132023
CREATED:20251209T133306Z
LAST-MODIFIED:20251209T143927Z
UID:10000267-1777572000-1777575600@www.ebz-muenchen.de
SUMMARY:Elterntreff
DESCRIPTION:Der Elterntreff im ebz\noffener Treff –  thematische Inputs – eigene Erfahrungen – Austausch – neue Ideen für den Alltag\nTermine 2026\n29.01.\, 26.02.\, 26.03.\, 30.04.\, 21.05.\, 25.06.\, 23.07.\, 29.10.\, 26.11. \nOrt\nebz in Ramersdorf\, Echardinger Str. 63\, 81671 München \nVeranstalter\nBeratung für Eltern\, Kinder\, Jugendliche und Familien (Erziehungsberatung) \nAnmeldung\nBitte unter eb.ramersdorf(ad)ebz-muenchen.de oder 089-59048 230 (Sekretariat/AB) \nInhalt\nDie offene Gruppe richtet sich an Mütter und Väter von 10- bis 18-Jährigen\, die sich mit anderen Eltern zu Erziehungsthemen in der Pubertät austauschen möchten.\nAustausch hilft\, wenn Türen knallen!\nWas kann ich Neues ausprobieren?\nIst das denn normal? Wie kann es weiter gehen? \nModeration\nKarolin Balbach und Franziska Thiel\, Beraterinnen der Erziehungsberatung \nKosten\nDie Treffs sind kostenfrei. Wir freuen uns aber über Spenden \nBarrierefreiheit\nEin Gebärdensprachendolmetscherdienst kann organisiert werden. Bitte spätestens drei Wochen vorher anmelden. \nWeitere Fragen?\nBitte melden Sie sich per Mail an eb.ramersdorf(ad)ebz-muenchen.de oder telefonisch an 089-59048 230
URL:https://www.ebz-muenchen.de/veranstaltung/elterntreff/2026-04-30/
LOCATION:EBZ in Ramersdorf\, Echardinger Str. 63\, München\, 81671\, Deutschland
CATEGORIES:Erziehungsberatung,Hörbehinderung,Partnerschaft und Familie,Schule
ATTACH;FMTTYPE=image/jpeg:https://www.ebz-muenchen.de/wp-content/uploads/2025/12/Freepik_gruppe-kinder_1200_2-scaled.jpg
ORGANIZER;CN="Erziehungsberatung":MAILTO:eb@ebz-muenchen.de
END:VEVENT
END:VCALENDAR