BEGIN:VCALENDAR
VERSION:2.0
PRODID:-//Evangelisches Beratungszentrum München - ECPv6.15.18//NONSGML v1.0//EN
CALSCALE:GREGORIAN
METHOD:PUBLISH
X-WR-CALNAME:Evangelisches Beratungszentrum München
X-ORIGINAL-URL:https://www.ebz-muenchen.de
X-WR-CALDESC:Veranstaltungen für Evangelisches Beratungszentrum München
REFRESH-INTERVAL;VALUE=DURATION:PT1H
X-Robots-Tag:noindex
X-PUBLISHED-TTL:PT1H
BEGIN:VTIMEZONE
TZID:Europe/Berlin
BEGIN:DAYLIGHT
TZOFFSETFROM:+0100
TZOFFSETTO:+0200
TZNAME:CEST
DTSTART:20250330T010000
END:DAYLIGHT
BEGIN:STANDARD
TZOFFSETFROM:+0200
TZOFFSETTO:+0100
TZNAME:CET
DTSTART:20251026T010000
END:STANDARD
BEGIN:DAYLIGHT
TZOFFSETFROM:+0100
TZOFFSETTO:+0200
TZNAME:CEST
DTSTART:20260329T010000
END:DAYLIGHT
BEGIN:STANDARD
TZOFFSETFROM:+0200
TZOFFSETTO:+0100
TZNAME:CET
DTSTART:20261025T010000
END:STANDARD
BEGIN:DAYLIGHT
TZOFFSETFROM:+0100
TZOFFSETTO:+0200
TZNAME:CEST
DTSTART:20270328T010000
END:DAYLIGHT
BEGIN:STANDARD
TZOFFSETFROM:+0200
TZOFFSETTO:+0100
TZNAME:CET
DTSTART:20271031T010000
END:STANDARD
END:VTIMEZONE
BEGIN:VEVENT
DTSTART;TZID=Europe/Berlin:20260420T160000
DTEND;TZID=Europe/Berlin:20260420T180000
DTSTAMP:20260424T102450
CREATED:20251125T090441Z
LAST-MODIFIED:20260330T111714Z
UID:10000260-1776700800-1776708000@www.ebz-muenchen.de
SUMMARY:Psychologischer Ersthelfer MHFA Kurs 01.26
DESCRIPTION:Was beinhaltet der MHFA Ersthelfer-Kurs für psychische Gesundheit?\n\nDer MHFA Ersthelfer-Kurs ist ein 12-stündiger Kurs für Erwachsene\, die den Wunsch haben\, andere Erwachsene zu unterstützen. Dieser Kurs besteht aus sechs Modulen zu je 2 Stunden (Termine siehe unten).\nZunächst erfolgt die Vermittlung von Basiswissen zu psychischen Störungen. Daran anknüpfend werden konkrete Erste-Hilfe-Maßnahmen bei verschiedenen psychischen Gesundheitsproblemen und bei akuten psychischen Krisen erlernt und durch praktische Übungen verfestigt. \n\nWas zeichnet mich als MHFA Ersthelfer*in aus?\n\nMHFA Ersthelfende haben ein Grundwissen über verschiedene psychische Gesundheitsprobleme und Krisen. Sie wissen\, wie sie einer betroffenen Person begegnen\, ihr beistehen\, sie unterstützen und über Hilfsangebote informieren können.\nMHFA Ersthelfende sind nicht in der Lage Betroffene zu therapieren\, sondern helfen ihnen dabei professionelle Unterstützung zu finden. \n\nWer kann teilnehmen?\n\nGrundsätzlich können alle Personen ab 18 Jahre MHFA Ersthelfende werden. Zur Teilnahme sind keine Vorkenntnisse erforderlich.\nIm MHFA Ersthelfer-Kurs werden auch schwierige Themen im Umgang mit psychischen Krisen besprochen. Personen\, die derzeit selbst an ausgeprägten psychischen Gesundheitsproblemen leiden\, können häufig vom Kurs nicht vollständig profitieren. Daher raten wir Personen mit akuten psychischen Gesundheitsproblemen eine geeignete Zeit mit mehr Stabilität für den Kurs abzuwarten. \n\nWelche Kriseninterventionen beinhaltet der MHFA Ersthelfer-Kurs?\n\nDie Teilnehmenden der MHFA Ersthelfer-Kurse bekommen Wissen über effektive Erste-Hilfe-Maßnahmen in Krisensituationen vermittelt. Um die MHFA Ersthelfenden möglichst umfassend zu schulen\, legen wir hierbei Wert auf ein breites Spektrum unterschiedlicher Situationen\, weshalb der Kurs Krisen umfasst\, welche von Suizidalität über Panikattacken\, schwere psychotische Episoden bis hin zu schwerer Intoxikation und aggressivem Verhalten reichen. In den Kursen erlernen Sie die Erste Hilfe-Maßnahmen nicht nur\, sondern üben diese in Gruppenübungen und Rollenspielen. Dies macht es leichter\, das Wissen praktisch anzuwenden. Zusätzlich zu den Erste Hilfe-Maßnahmen in Krisensituationen lernen die Kursteilnehmenden\, psychische Gesundheitsprobleme anzusprechen\, unabhängig davon\, ob jemand sich in einer Krise befindet oder nicht. \nWeitere allgemeine Informationen zum MHFA-Programm finden Sie hier \nTermine\nModul 1: Montag\, 20.04.26\, 16.00-18.00 Uhr\nModul 2: Montag\, 27.04.26\, 16.00-18.00 Uhr\nModul 3: Mittwoch\, 29.04.26\, 16.00-18.00 Uhr\nModul 4: Montag\, 04.05.26\, 16.00-18.00 Uhr\nModul 5: Mittwoch\, 06.05.26\, 16.00-18.00 Uhr\nModul 6: Montag\, 11.05.26\, 16.00-18.00 Uhr \nKursleiter\nMarkus Bernhard\, Diplom Psychologe\, Leitung Ehe-\, Partnerschafts-\, Familien-\, Lebensberatung \nAnmeldung\nBitte melden Sie sich über den roten Button an. Wenn Sie ermäßigungsberechtigt sind\, tragen Sie bitte Ihren Arbeitgeber bzw. die Einrichtung\, für die Sie ehrenamtlich tätig sind\, mit Adresse in das entsprechende Feld ein. Nach erfolgreicher Anmeldung erhalten Sie zeitnah eine E-Mail mit weiteren Informationen und den Kursterminen. \nVeranstaltungsort\nZoom Videokonferenz \nKostenbeitrag\nDie Kursgebühr beträgt 240 Euro\, ermäßigt 220 Euro.\nDie Ermäßigung gibt es für soziale und kirchliche Berufsgruppen\, Mitarbeitende im öffentlichen Dienst und Ehrenamtliche. \nStornierung des Kurses\nSie haben die Möglichkeit\, bis zu 5 Werktagen vor Kursbeginn\, kostenfrei zu stornieren. Die Kursgebühr wird Ihnen in dem Fall erstattet.\nDanach wird die Kursgebühr in voller Höhe fällig und eine Erstattung ist ausgeschlossen. Die Anmeldung einer Ersatzperson ist möglich.\nBei Abbruch des Kurses\, oder wenn Sie einzelne Module verpassen\, ist keine Erstattung möglich.
URL:https://www.ebz-muenchen.de/veranstaltung/psychologischer-ersthelfer-mhfa-kurs-01-26/
LOCATION:Zoom Videokonferenz
CATEGORIES:Partnerschaft und Familie
ATTACH;FMTTYPE=image/png:https://www.ebz-muenchen.de/wp-content/uploads/2025/05/cwavebreakmedia_ThinkstockPhotos-486484225-s2.png
ORGANIZER;CN="Ehe-%2C Partnerschafts-%2C Familien-%2C Lebensberatung":MAILTO:epfl@ebz-muenchen.de
END:VEVENT
END:VCALENDAR