BEGIN:VCALENDAR
VERSION:2.0
PRODID:-//Evangelisches Beratungszentrum München - ECPv6.15.18//NONSGML v1.0//EN
CALSCALE:GREGORIAN
METHOD:PUBLISH
X-WR-CALNAME:Evangelisches Beratungszentrum München
X-ORIGINAL-URL:https://www.ebz-muenchen.de
X-WR-CALDESC:Veranstaltungen für Evangelisches Beratungszentrum München
REFRESH-INTERVAL;VALUE=DURATION:PT1H
X-Robots-Tag:noindex
X-PUBLISHED-TTL:PT1H
BEGIN:VTIMEZONE
TZID:Europe/Berlin
BEGIN:DAYLIGHT
TZOFFSETFROM:+0100
TZOFFSETTO:+0200
TZNAME:CEST
DTSTART:20250330T010000
END:DAYLIGHT
BEGIN:STANDARD
TZOFFSETFROM:+0200
TZOFFSETTO:+0100
TZNAME:CET
DTSTART:20251026T010000
END:STANDARD
BEGIN:DAYLIGHT
TZOFFSETFROM:+0100
TZOFFSETTO:+0200
TZNAME:CEST
DTSTART:20260329T010000
END:DAYLIGHT
BEGIN:STANDARD
TZOFFSETFROM:+0200
TZOFFSETTO:+0100
TZNAME:CET
DTSTART:20261025T010000
END:STANDARD
BEGIN:DAYLIGHT
TZOFFSETFROM:+0100
TZOFFSETTO:+0200
TZNAME:CEST
DTSTART:20270328T010000
END:DAYLIGHT
BEGIN:STANDARD
TZOFFSETFROM:+0200
TZOFFSETTO:+0100
TZNAME:CET
DTSTART:20271031T010000
END:STANDARD
END:VTIMEZONE
BEGIN:VEVENT
DTSTART;TZID=Europe/Berlin:20260422T180000
DTEND;TZID=Europe/Berlin:20260422T203000
DTSTAMP:20260420T105457
CREATED:20250730T105713Z
LAST-MODIFIED:20250818T092344Z
UID:10000257-1776880800-1776889800@www.ebz-muenchen.de
SUMMARY:Mein Kind und seine Sexualität
DESCRIPTION:Ein Info- und Gesprächsabend für Eltern\nInhalt: \nDie Sexualpädagog*innen der Schwangerschaftsberatung im ebz geben Eltern an diesem Abend zuerst einen Überblick über die Entwicklung der Sexualität bei Säuglingen\, Kindern und Jugendlichen. Anschließend werden konkrete Alltagssituationen besprochen und Fragen beantwortet. \nReferent: \nKarl-Heinz Spring\, Sozialpädagoge der Schwangerschaftsberatung \nKosten: \nDie Veranstaltung ist aufgrund öffentlicher Förderung kostenlos. Wir freuen uns über eine Spende. \nAnmeldung: \nBitte melden Sie sich über den roten Button an. Die Veranstaltung findet in Präsenz\, in der Landwehrstraße 15 statt.\nWenn Sie sich erfolgreich angemeldet haben\, erhalten Sie eine Email. Bitte melden Sie sich bei uns\, falls dies nicht geklappt haben sollte. \nPersonen mit Hörbehinderung: \nFür Personen mit Hörbehinderung bieten wir gerne persönliche Beratungstermine an. Hierfür buchen wir einen kostenlosen Gebärdendolmetscherdienst. Wenn Sie Bedarf haben\, schreiben Sie und bitte eine Mail an: ssb@ebz-muenchen.de.
URL:https://www.ebz-muenchen.de/veranstaltung/mein-kind-und-seine-sexualitaet-3/
LOCATION:ebz München Landwehrstr.\, Landwehrstr. 15/Rgb.\, München\, Bayern\, 80336\, Deutschland
CATEGORIES:Erziehungsberatung,Partnerschaft und Familie,Schule,Schwangerschaftsberatung
ATTACH;FMTTYPE=image/jpeg:https://www.ebz-muenchen.de/wp-content/uploads/2020/12/ebz-turnschuhe-jugendliche.jpg
ORGANIZER;CN="Schwangerschaftsberatung":MAILTO:ssb@ebz-muenchen.de
END:VEVENT
END:VCALENDAR